BEGIN:VCALENDAR
VERSION:2.0
PRODID:-//SV Rheinhausen 1913 - ECPv6.15.20//NONSGML v1.0//EN
CALSCALE:GREGORIAN
METHOD:PUBLISH
X-WR-CALNAME:SV Rheinhausen 1913
X-ORIGINAL-URL:https://sv-rheinhausen.de
X-WR-CALDESC:Veranstaltungen für SV Rheinhausen 1913
REFRESH-INTERVAL;VALUE=DURATION:PT1H
X-Robots-Tag:noindex
X-PUBLISHED-TTL:PT1H
BEGIN:VTIMEZONE
TZID:Europe/Berlin
BEGIN:DAYLIGHT
TZOFFSETFROM:+0100
TZOFFSETTO:+0200
TZNAME:CEST
DTSTART:20250330T010000
END:DAYLIGHT
BEGIN:STANDARD
TZOFFSETFROM:+0200
TZOFFSETTO:+0100
TZNAME:CET
DTSTART:20251026T010000
END:STANDARD
BEGIN:DAYLIGHT
TZOFFSETFROM:+0100
TZOFFSETTO:+0200
TZNAME:CEST
DTSTART:20260329T010000
END:DAYLIGHT
BEGIN:STANDARD
TZOFFSETFROM:+0200
TZOFFSETTO:+0100
TZNAME:CET
DTSTART:20261025T010000
END:STANDARD
BEGIN:DAYLIGHT
TZOFFSETFROM:+0100
TZOFFSETTO:+0200
TZNAME:CEST
DTSTART:20270328T010000
END:DAYLIGHT
BEGIN:STANDARD
TZOFFSETFROM:+0200
TZOFFSETTO:+0100
TZNAME:CET
DTSTART:20271031T010000
END:STANDARD
END:VTIMEZONE
BEGIN:VEVENT
DTSTART;TZID=Europe/Berlin:20260418T090000
DTEND;TZID=Europe/Berlin:20260418T160000
DTSTAMP:20260420T164320
CREATED:20260216T113430Z
LAST-MODIFIED:20260216T113711Z
UID:6891-1776502800-1776528000@sv-rheinhausen.de
SUMMARY:Beckenreinigung am Kruppsee
DESCRIPTION:Nach getaner Arbeit wird gemeinsam gegrillt. Würstchen und Getränke gehen auf uns.
URL:https://sv-rheinhausen.de/event/beckenreinigung/
LOCATION:Freibad Kruppsee\, Bachstr. 2\, Duisburg\, 47229\, Germany
CATEGORIES:Verein
ORGANIZER;CN="Vorstand":MAILTO:info@sv-rheinhausen.de
END:VEVENT
BEGIN:VEVENT
DTSTART;TZID=Europe/Berlin:20260404T170000
DTEND;TZID=Europe/Berlin:20260404T220000
DTSTAMP:20260420T164320
CREATED:20260303T204425Z
LAST-MODIFIED:20260303T204425Z
UID:6925-1775322000-1775340000@sv-rheinhausen.de
SUMMARY:Osterfeuer am Kruppsee - Details folgen
DESCRIPTION:
URL:https://sv-rheinhausen.de/event/osterfeuer-am-kruppsee-details-folgen/
CATEGORIES:Verein
END:VEVENT
BEGIN:VEVENT
DTSTART;TZID=Europe/Berlin:20260404T170000
DTEND;TZID=Europe/Berlin:20260404T210000
DTSTAMP:20260420T164320
CREATED:20260214T093208Z
LAST-MODIFIED:20260330T181708Z
UID:6881-1775322000-1775336400@sv-rheinhausen.de
SUMMARY:Osterfeuer am Kruppsee - 2026
DESCRIPTION:Nach dem riesigen Anklang im letzten Jahr laden wir euch wieder ein:Kommt vorbei\, wenn wir am Samstag\, den 04. April 2026\, gemeinsam das Osterfeuer entfachen!\nWann geht’s los?Ab 17:00 Uhr sind die Tore am Freibad Kruppsee für euch geöffnet. Das Feuer wird gegen 18:30 Uhr entzündet.\nDer Eintritt ist kostenfrei und öffentlich.\nWas ist neu?Wir haben euer Feedback vom letzten Jahr gehört! Damit ihr nicht lange auf eure Kaltgetränke warten müsst\, haben wir ordentlich aufgerüstet:– Wir stellen zwei große Bierwagen und eine mobile Zapfstation auf.– Mehr Personal: Ein größeres Team sorgt für einen reibungslosen Ablauf.– Bester Sound: DJ Micha alias Hacky Hackbarth sorgt für die Musik.
URL:https://sv-rheinhausen.de/event/osterfeuer-am-kruppsee-2026/
LOCATION:Freibad Kruppsee\, Bachstr. 2\, Duisburg\, 47229\, Germany
ATTACH;FMTTYPE=image/jpeg:https://sv-rheinhausen.de/wp-content/uploads/2026/02/Hintergrund_FB-Event_2.jpg
ORGANIZER;CN="Vorstand":MAILTO:info@sv-rheinhausen.de
END:VEVENT
BEGIN:VEVENT
DTSTART;TZID=Europe/Berlin:20260320T193000
DTEND;TZID=Europe/Berlin:20260320T210000
DTSTAMP:20260420T164320
CREATED:20260216T072520Z
LAST-MODIFIED:20260218T070355Z
UID:6884-1774035000-1774040400@sv-rheinhausen.de
SUMMARY:Jahreshauptversammlung 2026
DESCRIPTION:
URL:https://sv-rheinhausen.de/event/jahreshauptversammlung-2026/
LOCATION:Pfarrzentrum St. Josef\, Kronprinzenstraße 32\, Duisburg\, NRW\, 47229\, Deutschland
CATEGORIES:Verein
ORGANIZER;CN="Vorstand":MAILTO:info@sv-rheinhausen.de
END:VEVENT
BEGIN:VEVENT
DTSTART;TZID=Europe/Berlin:20260320T183000
DTEND;TZID=Europe/Berlin:20260320T193000
DTSTAMP:20260420T164320
CREATED:20260218T070055Z
LAST-MODIFIED:20260218T070213Z
UID:6905-1774031400-1774035000@sv-rheinhausen.de
SUMMARY:Jugendversammlung 2026
DESCRIPTION:
URL:https://sv-rheinhausen.de/event/jugendversammlung-2026/
LOCATION:Pfarrzentrum St. Josef\, Kronprinzenstraße 32\, Duisburg\, NRW\, 47229\, Deutschland
CATEGORIES:Jugend
ORGANIZER;CN="SVR-Jugend":MAILTO:jugendausschuss@sv-rheinhausen.de
END:VEVENT
END:VCALENDAR